Workbook

Sheet Store Info - by Store #
A1: LIQUOR MARTS - BY STORE #
A2: Store # | B2: Store | C2: City/Rural | D2: % of total LM sales F26 | E2: Sales Profile | F2: Distinctions | G2: Fixture type | H2: Address | I2: Postal Code | J2: Phone Number/ Fax | K2: Email Address - Store Manager | L2: Email Address - Store Assistant Manager
A3: 4 | B3: NEEPAWA | C3: Rural | D3: 0.0067550135 | E3: #4 - Core Only/Minimal Allocation | G3: WIRE | H3: 393 Mountain Ave | I3: R0J 1H0 | J3: P:204-476-5769 F:204-476-3136 | K3: Store04-StoreManager@mbll.ca | L3: N/A
A4: 5 | B4: GARDEN CITY SQUARE | C4: City | D4: 0.038154777 | E4: #1 - Full Assortment/Highest Allocation | F4: Distinctions | G4: HYBRID | H4: Unit 2 - 915 Leila Ave | I4: R2V 3J7 | J4: P:204-987-4005 | K4: Store05-StoreManager@mbll.ca | L4: Store05-AssistantStoreManager@mbll.ca
A5: 6 | B5: HARGRAVE & ELLICE | C5: City | D5: 0.015451921 | E5: #3 - Core SKUs & Selective Items | G5: WIRE | H5: 325 Ellice Ave | I5: R3B 1X7 | J5: P:204-987-4006 | K5: Store06-StoreManager@mbll.ca | L5: Store06-AssistantStoreManager@mbll.ca
A6: 7 | B6: DAUPHIN | C6: Rural | D6: 0.015124135 | E6: #3 - Core SKUs & Selective Items | G6: VIC | H6: 1460 Main St S. | I6: R7N 3H4 | J6: P:204-622-7070 F:204-638-4069 | K6: Store07-StoreManager@mbll.ca | L6: N/A
A7: 8 | B7: PORTAGE & AINSLIE | C7: City | D7: 0.018886437 | E7: #2 - Strong Assortment/Moderate Depth | G7: HYBRID | H7: 2549 Portage Ave | I7: R3J 0P1 | J7: P:204-987-4008 | K7: Store08-StoreManager@mbll.ca | L7: Store08-AssistantStoreManager@mbll.ca
A8: 9 | B8: TUXEDO | C8: City | D8: 0.013758991 | E8: #3 - Core SKUs & Selective Items | F8: Distinctions | G8: WIRE | H8: 168 – 2025 Corydon | I8: R3P 0N5 | J8: P:204-987-4009 | K8: Store09-StoreManager@mbll.ca | L8: Store09-AssistantStoreManager@mbll.ca
A9: 10 | B9: FLIN FLON | C9: Rural | D9: 0.007382044 | E9: #4 - Core Only/Minimal Allocation | G9: WIRE | H9: 26 Hapnot St | I9: R8A 1L4 | J9: P:204-687-1380 F:204-687-6677 | K9: Store10-StoreManager@mbll.ca | L9: Store10-AssistantStoreManager@mbll.ca
A10: 11 | B10: SELKIRK | C10: Rural | D10: 0.020155595 | E10: #2 - Strong Assortment/Moderate Depth | G10: WIRE | H10: 377 Main St | I10: R1A 1T7 | J10: P:204-482-2360 F: 204-785-2124 | K10: Store11-StoreManager@mbll.ca | L10: Store11-AssistantStoreManager@mbll.ca
A11: 12 | B11: RIVER & OSBORNE | C11: City | D11: 0.019950718 | E11: #3 - Core SKUs & Selective Items | G11: WIRE | H11: 469 River Ave | I11: R3L 0C9 | J11: P:204-987-4012 | K11: Store12-StoreManager@mbll.ca | L11: Store12-AssistantStoreManager@mbll.ca
A12: 13 | B12: GIMLI | C12: Rural | D12: 0.015730195 | E12: #3 - Core SKUs & Selective Items | G12: VIC | H12: 69 Centre St | I12: R0C 1B1 | J12: P:204-642-6540 F:204-642-9778 | K12: Store13-StoreManager@mbll.ca | L12: Store13-AssistantStoreManager@mbll.ca
A13: 14 | B13: MAIN & PRITCHARD | C13: City | D13: 0.012771875 | E13: #4 - Core Only/Minimal Allocation | G13: VIC | H13: 1005 Main St | I13: R2W 3P8 | J13: P:204-987-4014 | K13: Store14-StoreManager@mbll.ca | L13: Store14-AssistantStoreManager@mbll.ca
A14: 15 | B14: ROBLIN | C14: Rural | D14: 0.004797135 | E14: #4 - Core Only/Minimal Allocation | G14: VIC | H14: 124 Main St West Box 1178 | I14: R0L 1P0 | J14: P:204-937-4411 F:204-937-3698 | K14: Store15-StoreManager@mbll.ca | L14: N/A
A15: 16 | B15: KILLARNEY | C15: Rural | D15: 0.0034629274 | E15: No programming | G15: WIRE | H15: 516 Broadway Ave | I15: R0K 1G0 | J15: P:204-523-7721 F:204-523-5109 | K15: Store16-StoreManager@mbll.ca | L15: N/A
A16: 17 | B16: KENASTON CROSSING | C16: City | D16: 0.029031011 | E16: #1 - Full Assortment/Highest Allocation | F16: Distinctions | G16: HYBRID | H16: 8-1650 Kenaston Blvd | I16: R3P 2M6 | J16: P:204-987-4017 | K16: Store17-StoreManager@mbll.ca | L16: Store17-AssistantStoreManager@mbll.ca
A17: 18 | B17: FORT GARRY | C17: City | D17: 0.014215924 | E17: #3 - Core SKUs & Selective Items | G17: VIC | H17: 1235 Pembina Hwy | I17: R3T 2A9 | J17: P:204-987-4018 | K17: Store18-StoreManager@mbll.ca | L17: Store18-AssistantStoreManager@mbll.ca
A18: 19 | B18: BUNNS CREEK SHOPPING MALL | C18: City | D18: 0.021678232 | E18: #2 - Strong Assortment/Moderate Depth | F18: Distinctions | G18: HYBRID | H18: 2001 Henderson Hwy | I18: R2G 1P7 | J18: P:204-987-4019 | K18: Store19-StoreManager@mbll.ca | L18: Store19-AssistantStoreManager@mbll.ca
A19: 20 | B19: ST. VITAL SQUARE | C19: City | D19: 0.035835886 | E19: #1 - Full Assortment/Highest Allocation | F19: Distinctions | G19: HYBRID | H19: #5 – 827 Dakota St | I19: R2M 3K4 | J19: P:204-987-4020 | K19: Store20-StoreManager@mbll.ca | L19: Store20-AssistantStoreManager@mbll.ca
A20: 22 | B20: PORTAGE LA PRAIRIE EAST | C20: Rural | D20: 0.0077880093 | E20: #3 - Core SKUs & Selective Items | G20: VIC | H20: 300 Saskatchewan Ave East - Box 464 | I20: R1N 0K8 | J20: P:204-856-2170 F:204-857-6570 | K20: Store22-StoreManager@mbll.ca | L20: Store22-AssistantStoreManager@mbll.ca
A21: 23 | B21: SWAN RIVER | C21: Rural | D21: 0.0064107872 | E21: #4 - Core Only/Minimal Allocation | G21: VIC | H21: 716 Main St | I21: R0L 1Z0 | J21: P:204-734-2002 F:204-734-9360 | K21: Store23-StoreManager@mbll.ca | L21: N/A
A22: 24 | B22: VIRDEN | C22: Rural | D22: 0.0057406416 | E22: #4 - Core Only/Minimal Allocation | G22: VIC | H22: 197 3rd Ave | I22: R0M 2C0 | J22: P:204-748-2361 F:204-748-6454 | K22: Store24-StoreManager@mbll.ca | L22: N/A
A23: 25 | B23: PORTAGE & BURNELL | C23: City | D23: 0.022012175 | E23: #2 - Strong Assortment/Moderate Depth | G23: VIC | H23: 923 Portage Ave | I23: R3G 0P6 | J23: P:204-987-4025 | K23: Store25-StoreManager@mbll.ca | L23: Store25-AssistantStoreManager@mbll.ca
A24: 26 | B24: CHARLESWOOD | C24: City | D24: 0.016771316 | E24: #3 - Core SKUs & Selective Items | G24: VIC | H24: Unit 1D-3900 Grant Ave | I24: R3R 3C2 | J24: P:204-987-4026 | K24: Store26-StoreManager@mbll.ca | L24: Store26-AssistantStoreManager@mbll.ca
A25: 27 | B25: WINKLER | C25: Rural | D25: 0.018575959 | E25: #3 - Core SKUs & Selective Items | G25: WIRE | H25: Unit A - 155 Cargill Rd | I25: R6W 1K2 | J25: P:204-331-6213 F:204-331-6220 | K25: Store27-StoreManager@mbll.ca | L25: Store27-AssistantStoreManager@mbll.ca
A26: 28 | B26: RIVERGROVE | C26: City | D26: 0.017328142 | E26: #3 - Core SKUs & Selective Items | G26: VIC (minus boutique) | H26: 2615 Main St | I26: R2V 4W3 | J26: P:204-987-4028 | K26: Store28-StoreManager@mbll.ca | L26: Store28-AssistantStoreManager@mbll.ca
A27: 29 | B27: LAC du BONNET | C27: Rural | D27: 0.010505804 | E27: #4 - Core Only/Minimal Allocation | G27: VIC | H27: 99, 2nd St | I27: R0E 1A0 | J27: P:204-345-2350 F:204-345-9037 | K27: Store29-StoreManager@mbll.ca | L27: Store29-AssistantStoreManager@mbll.ca
A28: 30 | B28: SAGE CREEK | C28: City | D28: 0.018658429 | E28: #2 - Strong Assortment/Moderate Depth | F28: Distinctions | G28: WIRE | H28: Unit 1200- 50 Sage Creek Blvd | I28: R3X OJ6 | J28: P:204-987-4030 | K28: Store30-StoreManager@mbll.ca | L28: Store30-AssistantStoreManager@mbll.ca
A29: 31 | B29: THE PAS | C29: Rural | D29: 0.011840729 | E29: #4 - Core Only/Minimal Allocation | G29: WIRE | H29: 249 Fischer Ave - Box 300 | I29: R9A 1K4 | J29: P:204-627-1480 F:204-623-4782 | K29: Store31-StoreManager@mbll.ca | L29: Store31-AssistantStoreManager@mbll.ca
A30: 32 | B30: BRANDON CORRAL CENTRE | C30: Rural | D30: 0.015479184 | E30: #3 - Core SKUs & Selective Items | F30: Distinctions | G30: VIC (no wine/perimeter walls) | H30: 805 - 18th Street North | I30: R7A 7S1 | J30: P:204-571-5132 F:204-571-5104 | K30: Store32-StoreManager@mbll.ca | L30: Store32-AssistantStoreManager@mbll.ca
A31: 33 | B31: MINNEDOSA | C31: Rural | D31: 0.0045194923 | E31: #4 - Core Only/Minimal Allocation | G31: WIRE | H31: 16-2nd Ave North West | I31: R0J 1E0 | J31: P:204-867-2838 F:204-867-5422 | K31: Store33-StoreManager@mbll.ca | L31: N/A
A32: 34 | B32: PINE FALLS | C32: Rural | D32: 0.0056488946 | E32: #4 - Core Only/Minimal Allocation | G32: WIRE | H32: 17 Pine St | I32: R0E 1M0 | J32: P:204-367-2965 | K32: Store34-StoreManager@mbll.ca | L32: N/A
A33: 36 | B33: NORTHDALE | C33: City | D33: 0.026251182 | E33: #1 - Full Assortment/Highest Allocation | F33: Distinctions | G33: HYBRID | H33: 965-A Henderson Hwy | I33: R2K 2M2 | J33: P:204-987-4036 | K33: Store36-StoreManager@mbll.ca | L33: Store36-AssistantStoreManager@mbll.ca
A34: 37 | B34: MORDEN | C34: Rural | D34: 0.0072060192 | E34: #4 - Core Only/Minimal Allocation | G34: VIC | H34: 331 North Railway St | I34: R6M 1S9 | J34: P:204-822-5875 F:204-822-4503 | K34: Store37-StoreManager@mbll.ca | L34: N/A
A35: 38 | B35: MAIN & JEFFERSON | C35: City | D35: 0.013916991 | E35: #3 - Core SKUs & Selective Items | G35: VIC | H35: 1662 Main St | I35: R2V 1Y9 | J35: P:204-987-4038 | K35: Store38-StoreManager@mbll.ca | L35: Store38-AssistantStoreManager@mbll.ca
A36: 39 | B36: STONEWALL | C36: Rural | D36: 0.012108016 | E36: #4 - Core Only/Minimal Allocation | G36: WIRE | H36: Unit 19 - 333 Main St. | I36: R0C 2Z0 | J36: P:204-467-9571 F:204-467-9372 | K36: Store39-StoreManager@mbll.ca | L36: Store39-AssistantStoreManager@mbll.ca
A37: 40 | B37: FORT RICHMOND | C37: City | D37: 0.027095391 | E37: #1 - Full Assortment/Highest Allocation | F37: Distinctions | G37: HYBRID | H37: 2851 Pembina Hwy | I37: R3T 2H5 | J37: P:204-987-4040 | K37: Store40-StoreManager@mbll.ca | L37: Store40-AssistantStoreManager@mbll.ca
A38: 41 | B38: SOUTHGLEN | C38: City | D38: 0.021264679 | E38: #2 - Strong Assortment/Moderate Depth | G38: HYBRID | H38: Unit A - 730 St. Anne's | I38: R2N 0A2 | J38: P:204-987-4041 | K38: Store41-StoreManager@mbll.ca | L38: Store41-AssistantStoreManager@mbll.ca
A39: 42 | B39: DOMINION | C39: City | D39: 0.015951203 | E39: #2 - Strong Assortment/Moderate Depth | G39: VIC | H39: 21 Marion St | I39: R2H 0S8 | J39: P:204-987-4042 | K39: Store42-StoreManager@mbll.ca | L39: Store42-AssistantStoreManager@mbll.ca
A40: 43 | B40: SOUTHDALE | C40: City | D40: 0.032667698 | E40: #1 - Full Assortment/Highest Allocation | F40: Distinctions | G40: VIC | H40: 81 Vermillion Rd | I40: R2J 3W7 | J40: P:204-987-4043 | K40: Store43-StoreManager@mbll.ca | L40: Store43-AssistantStoreManager@mbll.ca
...

Sheet Store Info - By % of sales
A1: LIQUOR MARTS - BY % OF SALES
A2: Store # | B2: Store | C2: City/Rural | D2: % of total LM sales F26 | E2: Sales Profile | F2: Distinctions | G2: Fixture type | H2: Address | I2: Postal Code | J2: Phone Number/ Fax | K2: Email Address - Store Manager | L2: Email Address - Store Assistant Manager
A3: 5 | B3: GARDEN CITY SQUARE | C3: City | D3: 0.038154777 | E3: #1 - Full Assortment/Highest Allocation | F3: Distinctions | G3: HYBRID | H3: Unit 2 - 915 Leila Ave | I3: R2V 3J7 | J3: P:204-987-4005 | K3: Store05-StoreManager@mbll.ca | L3: Store05-AssistantStoreManager@mbll.ca
A4: 20 | B4: ST. VITAL SQUARE | C4: City | D4: 0.035835886 | E4: #1 - Full Assortment/Highest Allocation | F4: Distinctions | G4: HYBRID | H4: #5 – 827 Dakota St | I4: R2M 3K4 | J4: P:204-987-4020 | K4: Store20-StoreManager@mbll.ca | L4: Store20-AssistantStoreManager@mbll.ca
A5: 45 | B5: GRANT PARK | C5: City | D5: 0.035574194 | E5: #1 - Full Assortment/Highest Allocation | F5: Distinctions | G5: HYBRID | H5: 1120 Grant Ave | I5: R3M 2A6 | J5: P:204-987-4045 | K5: Store45-StoreManager@mbll.ca | L5: Store45-AssistantStoreManager@mbll.ca
A6: 54 | B6: CRESTVIEW | C6: City | D6: 0.03429003 | E6: #1 - Full Assortment/Highest Allocation | F6: Distinctions | G6: VIC (minus boutique) | H6: Unit 170–3393 Portage | I6: R3K 2G7 | J6: P:204-987-4054 | K6: Store54-StoreManager@mbll.ca | L6: Store54-AssistantStoreManager@mbll.ca
A7: 43 | B7: SOUTHDALE | C7: City | D7: 0.032667698 | E7: #1 - Full Assortment/Highest Allocation | F7: Distinctions | G7: VIC | H7: 81 Vermillion Rd | I7: R2J 3W7 | J7: P:204-987-4043 | K7: Store43-StoreManager@mbll.ca | L7: Store43-AssistantStoreManager@mbll.ca
A8: 60 | B8: MADISON SQUARE | C8: City | D8: 0.03094664 | E8: #1 - Full Assortment/Highest Allocation | F8: Distinctions | G8: VIC | H8: P – 1600 Ness Ave | I8: R3J 3W7 | J8: P:204-987-4060 | K8: Store60-StoreManager@mbll.ca | L8: Store60-AssistantStoreManager@mbll.ca
A9: 52 | B9: EASTWINDS | C9: City | D9: 0.030656385 | E9: #1 - Full Assortment/Highest Allocation | F9: Distinctions | G9: VIC | H9: 23 - 1530 Regent Ave | I9: R2C 4J5 | J9: P:204-987-4052 | K9: Store52-StoreManager@mbll.ca | L9: Store52-AssistantStoreManager@mbll.ca
A10: 57 | B10: STEINBACH | C10: Rural | D10: 0.030050944 | E10: #2 - Strong Assortment/Moderate Depth | G10: HYBRID | H10: Unit A - 118 PTH #12N | I10: R5G 1T4 | J10: P:204-320-2557 F:204-320-2558 | K10: Store57-StoreManager@mbll.ca | L10: Store57-AssistantStoreManager@mbll.ca
A11: 17 | B11: KENASTON CROSSING | C11: City | D11: 0.029031011 | E11: #1 - Full Assortment/Highest Allocation | F11: Distinctions | G11: HYBRID | H11: 8-1650 Kenaston Blvd | I11: R3P 2M6 | J11: P:204-987-4017 | K11: Store17-StoreManager@mbll.ca | L11: Store17-AssistantStoreManager@mbll.ca
A12: 40 | B12: FORT RICHMOND | C12: City | D12: 0.027095391 | E12: #1 - Full Assortment/Highest Allocation | F12: Distinctions | G12: HYBRID | H12: 2851 Pembina Hwy | I12: R3T 2H5 | J12: P:204-987-4040 | K12: Store40-StoreManager@mbll.ca | L12: Store40-AssistantStoreManager@mbll.ca
A13: 46 | B13: THOMPSON | C13: Rural | D13: 0.026728562 | E13: #2 - Strong Assortment/Moderate Depth | G13: VIC | H13: 2-300 Mystery Lake Rd | I13: R8N 0M2 | J13: P:204-677-0211 F:204-778-8483 | K13: Store46-StoreManager@mbll.ca | L13: Store46-AssistantStoreManager@mbll.ca
A14: 36 | B14: NORTHDALE | C14: City | D14: 0.026251182 | E14: #1 - Full Assortment/Highest Allocation | F14: Distinctions | G14: HYBRID | H14: 965-A Henderson Hwy | I14: R2K 2M2 | J14: P:204-987-4036 | K14: Store36-StoreManager@mbll.ca | L14: Store36-AssistantStoreManager@mbll.ca
A15: 25 | B15: PORTAGE & BURNELL | C15: City | D15: 0.022012175 | E15: #2 - Strong Assortment/Moderate Depth | G15: VIC | H15: 923 Portage Ave | I15: R3G 0P6 | J15: P:204-987-4025 | K15: Store25-StoreManager@mbll.ca | L15: Store25-AssistantStoreManager@mbll.ca
A16: 19 | B16: BUNNS CREEK SHOPPING MALL | C16: City | D16: 0.021678232 | E16: #2 - Strong Assortment/Moderate Depth | F16: Distinctions | G16: HYBRID | H16: 2001 Henderson Hwy | I16: R2G 1P7 | J16: P:204-987-4019 | K16: Store19-StoreManager@mbll.ca | L16: Store19-AssistantStoreManager@mbll.ca
A17: 41 | B17: SOUTHGLEN | C17: City | D17: 0.021264679 | E17: #2 - Strong Assortment/Moderate Depth | G17: HYBRID | H17: Unit A - 730 St. Anne's | I17: R2N 0A2 | J17: P:204-987-4041 | K17: Store41-StoreManager@mbll.ca | L17: Store41-AssistantStoreManager@mbll.ca
A18: 51 | B18: BRANDON SOUTH | C18: Rural | D18: 0.020329309 | E18: #2 - Strong Assortment/Moderate Depth | G18: VIC | H18: 1645C 18th Street | I18: R7A 5C6 | J18: P:204-571-5100 F:204-726-5983 | K18: Store51-StoreManager@mbll.ca | L18: Store51-AssistantStoreManager@mbll.ca
A19: 11 | B19: SELKIRK | C19: Rural | D19: 0.020155595 | E19: #2 - Strong Assortment/Moderate Depth | G19: WIRE | H19: 377 Main St | I19: R1A 1T7 | J19: P:204-482-2360 F: 204-785-2124 | K19: Store11-StoreManager@mbll.ca | L19: Store11-AssistantStoreManager@mbll.ca
A20: 12 | B20: RIVER & OSBORNE | C20: City | D20: 0.019950718 | E20: #3 - Core SKUs & Selective Items | G20: WIRE | H20: 469 River Ave | I20: R3L 0C9 | J20: P:204-987-4012 | K20: Store12-StoreManager@mbll.ca | L20: Store12-AssistantStoreManager@mbll.ca
A21: 50 | B21: TYNDALL MARKET | C21: City | D21: 0.019415969 | E21: #2 - Strong Assortment/Moderate Depth | G21: VIC | H21: Unit 15 - 850 Keewatin | I21: R2R 0Z5 | J21: P:204-987-4050 | K21: Store50-StoreManager@mbll.ca | L21: Store50-AssistantStoreManager@mbll.ca
A22: 8 | B22: PORTAGE & AINSLIE | C22: City | D22: 0.018886437 | E22: #2 - Strong Assortment/Moderate Depth | G22: HYBRID | H22: 2549 Portage Ave | I22: R3J 0P1 | J22: P:204-987-4008 | K22: Store08-StoreManager@mbll.ca | L22: Store08-AssistantStoreManager@mbll.ca
A23: 30 | B23: SAGE CREEK | C23: City | D23: 0.018658429 | E23: #2 - Strong Assortment/Moderate Depth | F23: Distinctions | G23: WIRE | H23: Unit 1200- 50 Sage Creek Blvd | I23: R3X OJ6 | J23: P:204-987-4030 | K23: Store30-StoreManager@mbll.ca | L23: Store30-AssistantStoreManager@mbll.ca
A24: 27 | B24: WINKLER | C24: Rural | D24: 0.018575959 | E24: #3 - Core SKUs & Selective Items | G24: WIRE | H24: Unit A - 155 Cargill Rd | I24: R6W 1K2 | J24: P:204-331-6213 F:204-331-6220 | K24: Store27-StoreManager@mbll.ca | L24: Store27-AssistantStoreManager@mbll.ca
A25: 44 | B25: SPRING MEADOW SQUARE | C25: City | D25: 0.018402213 | E25: #2 - Strong Assortment/Moderate Depth | G25: WIRE | H25: Unit 21 - 1783 Plessis Rd | I25: R3W 1N3 | J25: P:204-987-4044 | K25: Store44-StoreManager@mbll.ca | L25: Store44-AssistantStoreManager@mbll.ca
A26: 49 | B26: BRANDON VICTORIA | C26: Rural | D26: 0.017692298 | E26: #1 - Full Assortment/Highest Allocation | G26: HYBRID | H26: 1015 Victoria Ave 10th & Victoria | I26: R7A 1A9 | J26: P:204-571-5105 F:204-727-2714 | K26: Store49-StoreManager@mbll.ca | L26: Store49-AssistantStoreManager@mbll.ca
A27: 28 | B27: RIVERGROVE | C27: City | D27: 0.017328142 | E27: #3 - Core SKUs & Selective Items | G27: VIC (minus boutique) | H27: 2615 Main St | I27: R2V 4W3 | J27: P:204-987-4028 | K27: Store28-StoreManager@mbll.ca | L27: Store28-AssistantStoreManager@mbll.ca
A28: 26 | B28: CHARLESWOOD | C28: City | D28: 0.016771316 | E28: #3 - Core SKUs & Selective Items | G28: VIC | H28: Unit 1D-3900 Grant Ave | I28: R3R 3C2 | J28: P:204-987-4026 | K28: Store26-StoreManager@mbll.ca | L28: Store26-AssistantStoreManager@mbll.ca
A29: 42 | B29: DOMINION | C29: City | D29: 0.015951203 | E29: #2 - Strong Assortment/Moderate Depth | G29: VIC | H29: 21 Marion St | I29: R2H 0S8 | J29: P:204-987-4042 | K29: Store42-StoreManager@mbll.ca | L29: Store42-AssistantStoreManager@mbll.ca
A30: 13 | B30: GIMLI | C30: Rural | D30: 0.015730195 | E30: #3 - Core SKUs & Selective Items | G30: VIC | H30: 69 Centre St | I30: R0C 1B1 | J30: P:204-642-6540 F:204-642-9778 | K30: Store13-StoreManager@mbll.ca | L30: Store13-AssistantStoreManager@mbll.ca
A31: 32 | B31: BRANDON CORRAL CENTRE | C31: Rural | D31: 0.015479184 | E31: #3 - Core SKUs & Selective Items | F31: Distinctions | G31: VIC (no wine/perimeter walls) | H31: 805 - 18th Street North | I31: R7A 7S1 | J31: P:204-571-5132 F:204-571-5104 | K31: Store32-StoreManager@mbll.ca | L31: Store32-AssistantStoreManager@mbll.ca
A32: 6 | B32: HARGRAVE & ELLICE | C32: City | D32: 0.015451921 | E32: #3 - Core SKUs & Selective Items | G32: WIRE | H32: 325 Ellice Ave | I32: R3B 1X7 | J32: P:204-987-4006 | K32: Store06-StoreManager@mbll.ca | L32: Store06-AssistantStoreManager@mbll.ca
A33: 7 | B33: DAUPHIN | C33: Rural | D33: 0.015124135 | E33: #3 - Core SKUs & Selective Items | G33: VIC | H33: 1460 Main St S. | I33: R7N 3H4 | J33: P:204-622-7070 F:204-638-4069 | K33: Store07-StoreManager@mbll.ca | L33: N/A
A34: 18 | B34: FORT GARRY | C34: City | D34: 0.014215924 | E34: #3 - Core SKUs & Selective Items | G34: VIC | H34: 1235 Pembina Hwy | I34: R3T 2A9 | J34: P:204-987-4018 | K34: Store18-StoreManager@mbll.ca | L34: Store18-AssistantStoreManager@mbll.ca
A35: 38 | B35: MAIN & JEFFERSON | C35: City | D35: 0.013916991 | E35: #3 - Core SKUs & Selective Items | G35: VIC | H35: 1662 Main St | I35: R2V 1Y9 | J35: P:204-987-4038 | K35: Store38-StoreManager@mbll.ca | L35: Store38-AssistantStoreManager@mbll.ca
A36: 9 | B36: TUXEDO | C36: City | D36: 0.013758991 | E36: #3 - Core SKUs & Selective Items | F36: Distinctions | G36: WIRE | H36: 168 – 2025 Corydon | I36: R3P 0N5 | J36: P:204-987-4009 | K36: Store09-StoreManager@mbll.ca | L36: Store09-AssistantStoreManager@mbll.ca
A37: 59 | B37: SEASONS | C37: City | D37: 0.013096555 | E37: #3 - Core SKUs & Selective Items | F37: Distinctions | G37: VIC | H37: Unit 5, 469 Sterling Lyon Parkway | I37: R3P 2S8 | J37: P:204-987-4059 | K37: Store59-StoreManager@mbll.ca | L37: Store59-AssistantStoreManager@mbll.ca
A38: 84 | B38: PORTAGE LA PRAIRIE WEST | C38: Rural | D38: 0.012992876 | E38: #3 - Core SKUs & Selective Items | G38: VIC | H38: 2255 Saskatchewan Ave West | I38: R1N 4A1 | J38: P:204-856-1159 | K38: Store84-StoreManager@mbll.ca | L38: Store84-AssistantStoreManager@mbll.ca
A39: 14 | B39: MAIN & PRITCHARD | C39: City | D39: 0.012771875 | E39: #4 - Core Only/Minimal Allocation | G39: VIC | H39: 1005 Main St | I39: R2W 3P8 | J39: P:204-987-4014 | K39: Store14-StoreManager@mbll.ca | L39: Store14-AssistantStoreManager@mbll.ca
A40: 48 | B40: TRANSCONA SQUARE | C40: City | D40: 0.012538366 | E40: #4 - Core Only/Minimal Allocation | G40: VIC | H40: 3-620 Kildare Ave East | I40: R2C 0P8 | J40: P:204-987-4048 | K40: Store48-StoreManager@mbll.ca | L40: Store48-AssistantStoreManager@mbll.ca
...

Sheet PRODUCT SPOTIGHT
A1: PRODUCT SPOTLIGHT
E3: Store # | F3: Store Name | G3: City/Rural | H3: Fixture type | I3: Address | J3: Postal Code | K3: Phone Number/ Fax | L3: Email Address - Store Manager | M3: Email Address - Store Assistant Manager
A4: ESSENTIAL PACKAGE | B4: GROWTH PACKAGE | C4: CORE PACKAGE | D4: FLAGSHIP PACKAGE | E4: 5 | F4: {=VLOOKUP('PRODUCT SPOTIGHT'!E4,'Store Info - by Store #'!A:L,{2,3,7,8,9,10,11},0)} -> GARDEN CITY SQUARE | G4: City | H4: HYBRID | I4: Unit 2 - 915 Leila Ave | J4: R2V 3J7 | K4: P:204-987-4005 | L4: Store05-StoreManager@mbll.ca | M4: =VLOOKUP('PRODUCT SPOTIGHT'!E4,'Store Info - by Store #'!A:L,12,0) -> Store05-AssistantStoreManager@mbll.ca | N4: 8 STORES (8 CITY) | O4: 13 STORES (12 CITY, 1 RURAL) | P4: 23 STORES (19 CITY, 4 RURAL) | Q4: 37 STORES (27 CITY, 10 RURAL)
E5: 17 | F5: {=VLOOKUP('PRODUCT SPOTIGHT'!E5,'Store Info - by Store #'!A:L,{2,3,7,8,9,10,11},0)} -> KENASTON CROSSING | G5: City | H5: HYBRID | I5: 8-1650 Kenaston Blvd | J5: R3P 2M6 | K5: P:204-987-4017 | L5: Store17-StoreManager@mbll.ca | M5: =VLOOKUP('PRODUCT SPOTIGHT'!E5,'Store Info - by Store #'!A:L,12,0) -> Store17-AssistantStoreManager@mbll.ca
E6: 20 | F6: {=VLOOKUP('PRODUCT SPOTIGHT'!E6,'Store Info - by Store #'!A:L,{2,3,7,8,9,10,11},0)} -> ST. VITAL SQUARE | G6: City | H6: HYBRID | I6: #5 – 827 Dakota St | J6: R2M 3K4 | K6: P:204-987-4020 | L6: Store20-StoreManager@mbll.ca | M6: =VLOOKUP('PRODUCT SPOTIGHT'!E6,'Store Info - by Store #'!A:L,12,0) -> Store20-AssistantStoreManager@mbll.ca
E7: 40 | F7: {=VLOOKUP('PRODUCT SPOTIGHT'!E7,'Store Info - by Store #'!A:L,{2,3,7,8,9,10,11},0)} -> FORT RICHMOND | G7: City | H7: HYBRID | I7: 2851 Pembina Hwy | J7: R3T 2H5 | K7: P:204-987-4040 | L7: Store40-StoreManager@mbll.ca | M7: =VLOOKUP('PRODUCT SPOTIGHT'!E7,'Store Info - by Store #'!A:L,12,0) -> Store40-AssistantStoreManager@mbll.ca
E8: 41 | F8: {=VLOOKUP('PRODUCT SPOTIGHT'!E8,'Store Info - by Store #'!A:L,{2,3,7,8,9,10,11},0)} -> SOUTHGLEN | G8: City | H8: HYBRID | I8: Unit A - 730 St. Anne's | J8: R2N 0A2 | K8: P:204-987-4041 | L8: Store41-StoreManager@mbll.ca | M8: =VLOOKUP('PRODUCT SPOTIGHT'!E8,'Store Info - by Store #'!A:L,12,0) -> Store41-AssistantStoreManager@mbll.ca
E9: 43 | F9: {=VLOOKUP('PRODUCT SPOTIGHT'!E9,'Store Info - by Store #'!A:L,{2,3,7,8,9,10,11},0)} -> SOUTHDALE | G9: City | H9: VIC | I9: 81 Vermillion Rd | J9: R2J 3W7 | K9: P:204-987-4043 | L9: Store43-StoreManager@mbll.ca | M9: =VLOOKUP('PRODUCT SPOTIGHT'!E9,'Store Info - by Store #'!A:L,12,0) -> Store43-AssistantStoreManager@mbll.ca
E10: 45 | F10: {=VLOOKUP('PRODUCT SPOTIGHT'!E10,'Store Info - by Store #'!A:L,{2,3,7,8,9,10,11},0)} -> GRANT PARK | G10: City | H10: HYBRID | I10: 1120 Grant Ave | J10: R3M 2A6 | K10: P:204-987-4045 | L10: Store45-StoreManager@mbll.ca | M10: =VLOOKUP('PRODUCT SPOTIGHT'!E10,'Store Info - by Store #'!A:L,12,0) -> Store45-AssistantStoreManager@mbll.ca
E11: 54 | F11: {=VLOOKUP('PRODUCT SPOTIGHT'!E11,'Store Info - by Store #'!A:L,{2,3,7,8,9,10,11},0)} -> CRESTVIEW | G11: City | H11: VIC (minus boutique) | I11: Unit 170–3393 Portage | J11: R3K 2G7 | K11: P:204-987-4054 | L11: Store54-StoreManager@mbll.ca | M11: =VLOOKUP('PRODUCT SPOTIGHT'!E11,'Store Info - by Store #'!A:L,12,0) -> Store54-AssistantStoreManager@mbll.ca
E12: 8 | F12: {=VLOOKUP('PRODUCT SPOTIGHT'!E12,'Store Info - by Store #'!A:L,{2,3,7,8,9,10,11},0)} -> PORTAGE & AINSLIE | G12: City | H12: HYBRID | I12: 2549 Portage Ave | J12: R3J 0P1 | K12: P:204-987-4008 | L12: Store08-StoreManager@mbll.ca | M12: =VLOOKUP('PRODUCT SPOTIGHT'!E12,'Store Info - by Store #'!A:L,12,0) -> Store08-AssistantStoreManager@mbll.ca
E13: 30 | F13: {=VLOOKUP('PRODUCT SPOTIGHT'!E13,'Store Info - by Store #'!A:L,{2,3,7,8,9,10,11},0)} -> SAGE CREEK | G13: City | H13: WIRE | I13: Unit 1200- 50 Sage Creek Blvd | J13: R3X OJ6 | K13: P:204-987-4030 | L13: Store30-StoreManager@mbll.ca | M13: =VLOOKUP('PRODUCT SPOTIGHT'!E13,'Store Info - by Store #'!A:L,12,0) -> Store30-AssistantStoreManager@mbll.ca
E14: 36 | F14: {=VLOOKUP('PRODUCT SPOTIGHT'!E14,'Store Info - by Store #'!A:L,{2,3,7,8,9,10,11},0)} -> NORTHDALE | G14: City | H14: HYBRID | I14: 965-A Henderson Hwy | J14: R2K 2M2 | K14: P:204-987-4036 | L14: Store36-StoreManager@mbll.ca | M14: =VLOOKUP('PRODUCT SPOTIGHT'!E14,'Store Info - by Store #'!A:L,12,0) -> Store36-AssistantStoreManager@mbll.ca
E15: 49 | F15: {=VLOOKUP('PRODUCT SPOTIGHT'!E15,'Store Info - by Store #'!A:L,{2,3,7,8,9,10,11},0)} -> BRANDON VICTORIA | G15: Rural | H15: HYBRID | I15: 1015 Victoria Ave 10th & Victoria | J15: R7A 1A9 | K15: P:204-571-5105 F:204-727-2714 | L15: Store49-StoreManager@mbll.ca | M15: =VLOOKUP('PRODUCT SPOTIGHT'!E15,'Store Info - by Store #'!A:L,12,0) -> Store49-AssistantStoreManager@mbll.ca
E16: 52 | F16: {=VLOOKUP('PRODUCT SPOTIGHT'!E16,'Store Info - by Store #'!A:L,{2,3,7,8,9,10,11},0)} -> EASTWINDS | G16: City | H16: VIC | I16: 23 - 1530 Regent Ave | J16: R2C 4J5 | K16: P:204-987-4052 | L16: Store52-StoreManager@mbll.ca | M16: =VLOOKUP('PRODUCT SPOTIGHT'!E16,'Store Info - by Store #'!A:L,12,0) -> Store52-AssistantStoreManager@mbll.ca
... E40: 59 | F40: {=VLOOKUP('PRODUCT SPOTIGHT'!E40,'Store Info - by Store #'!A:L,{2,3,7,8,9,10,11},0)} -> SEASONS | G40: City | H40: VIC | I40: Unit 5, 469 Sterling Lyon Parkway | J40: R3P 2S8 | K40: P:204-987-4059 | L40: Store59-StoreManager@mbll.ca | M40: =VLOOKUP('PRODUCT SPOTIGHT'!E40,'Store Info - by Store #'!A:L,12,0) -> Store59-AssistantStoreManager@mbll.ca

Sheet FOOTPRINT - SPIRITS
A1: FOOTPRINT THEATRE | H1: 20 STORES | I1: 16 CITY, 4 RURAL
A2: SPIRITS
A3: Store # | B3: Store Name | C3: City/Rural | D3: Fixture type | E3: Address | F3: Postal Code | G3: Phone Number/ Fax | H3: Email Address - Store Manager | I3: Email Address - Store Assistant Manager
A4: 5 | B4: {=VLOOKUP('FOOTPRINT - SPIRITS'!A4,'Store Info - by Store #'!A:L,{2,3,7,8,9,10,11},0)} -> GARDEN CITY SQUARE | C4: City | D4: HYBRID | E4: Unit 2 - 915 Leila Ave | F4: R2V 3J7 | G4: P:204-987-4005 | H4: Store05-StoreManager@mbll.ca | I4: =VLOOKUP(A4,'Store Info - by Store #'!A:L,12,0) -> Store05-AssistantStoreManager@mbll.ca
A5: 8 | B5: {=VLOOKUP('FOOTPRINT - SPIRITS'!A5,'Store Info - by Store #'!A:L,{2,3,7,8,9,10,11},0)} -> PORTAGE & AINSLIE | C5: City | D5: HYBRID | E5: 2549 Portage Ave | F5: R3J 0P1 | G5: P:204-987-4008 | H5: Store08-StoreManager@mbll.ca | I5: =VLOOKUP(A5,'Store Info - by Store #'!A:L,12,0) -> Store08-AssistantStoreManager@mbll.ca
A6: 11 | B6: {=VLOOKUP('FOOTPRINT - SPIRITS'!A6,'Store Info - by Store #'!A:L,{2,3,7,8,9,10,11},0)} -> SELKIRK | C6: Rural | D6: WIRE | E6: 377 Main St | F6: R1A 1T7 | G6: P:204-482-2360 F: 204-785-2124 | H6: Store11-StoreManager@mbll.ca | I6: =VLOOKUP(A6,'Store Info - by Store #'!A:L,12,0) -> Store11-AssistantStoreManager@mbll.ca
A7: 17 | B7: {=VLOOKUP('FOOTPRINT - SPIRITS'!A7,'Store Info - by Store #'!A:L,{2,3,7,8,9,10,11},0)} -> KENASTON CROSSING | C7: City | D7: HYBRID | E7: 8-1650 Kenaston Blvd | F7: R3P 2M6 | G7: P:204-987-4017 | H7: Store17-StoreManager@mbll.ca | I7: =VLOOKUP(A7,'Store Info - by Store #'!A:L,12,0) -> Store17-AssistantStoreManager@mbll.ca
A8: 19 | B8: {=VLOOKUP('FOOTPRINT - SPIRITS'!A8,'Store Info - by Store #'!A:L,{2,3,7,8,9,10,11},0)} -> BUNNS CREEK SHOPPING MALL | C8: City | D8: HYBRID | E8: 2001 Henderson Hwy | F8: R2G 1P7 | G8: P:204-987-4019 | H8: Store19-StoreManager@mbll.ca | I8: =VLOOKUP(A8,'Store Info - by Store #'!A:L,12,0) -> Store19-AssistantStoreManager@mbll.ca
A9: 20 | B9: {=VLOOKUP('FOOTPRINT - SPIRITS'!A9,'Store Info - by Store #'!A:L,{2,3,7,8,9,10,11},0)} -> ST. VITAL SQUARE | C9: City | D9: HYBRID | E9: #5 – 827 Dakota St | F9: R2M 3K4 | G9: P:204-987-4020 | H9: Store20-StoreManager@mbll.ca | I9: =VLOOKUP(A9,'Store Info - by Store #'!A:L,12,0) -> Store20-AssistantStoreManager@mbll.ca
A10: 25 | B10: {=VLOOKUP('FOOTPRINT - SPIRITS'!A10,'Store Info - by Store #'!A:L,{2,3,7,8,9,10,11},0)} -> PORTAGE & BURNELL | C10: City | D10: VIC | E10: 923 Portage Ave | F10: R3G 0P6 | G10: P:204-987-4025 | H10: Store25-StoreManager@mbll.ca | I10: =VLOOKUP(A10,'Store Info - by Store #'!A:L,12,0) -> Store25-AssistantStoreManager@mbll.ca
A11: 36 | B11: {=VLOOKUP('FOOTPRINT - SPIRITS'!A11,'Store Info - by Store #'!A:L,{2,3,7,8,9,10,11},0)} -> NORTHDALE | C11: City | D11: HYBRID | E11: 965-A Henderson Hwy | F11: R2K 2M2 | G11: P:204-987-4036 | H11: Store36-StoreManager@mbll.ca | I11: =VLOOKUP(A11,'Store Info - by Store #'!A:L,12,0) -> Store36-AssistantStoreManager@mbll.ca
A12: 40 | B12: {=VLOOKUP('FOOTPRINT - SPIRITS'!A12,'Store Info - by Store #'!A:L,{2,3,7,8,9,10,11},0)} -> FORT RICHMOND | C12: City | D12: HYBRID | E12: 2851 Pembina Hwy | F12: R3T 2H5 | G12: P:204-987-4040 | H12: Store40-StoreManager@mbll.ca | I12: =VLOOKUP(A12,'Store Info - by Store #'!A:L,12,0) -> Store40-AssistantStoreManager@mbll.ca
A13: 41 | B13: {=VLOOKUP('FOOTPRINT - SPIRITS'!A13,'Store Info - by Store #'!A:L,{2,3,7,8,9,10,11},0)} -> SOUTHGLEN | C13: City | D13: HYBRID | E13: Unit A - 730 St. Anne's | F13: R2N 0A2 | G13: P:204-987-4041 | H13: Store41-StoreManager@mbll.ca | I13: =VLOOKUP(A13,'Store Info - by Store #'!A:L,12,0) -> Store41-AssistantStoreManager@mbll.ca
A14: 43 | B14: {=VLOOKUP('FOOTPRINT - SPIRITS'!A14,'Store Info - by Store #'!A:L,{2,3,7,8,9,10,11},0)} -> SOUTHDALE | C14: City | D14: VIC | E14: 81 Vermillion Rd | F14: R2J 3W7 | G14: P:204-987-4043 | H14: Store43-StoreManager@mbll.ca | I14: =VLOOKUP(A14,'Store Info - by Store #'!A:L,12,0) -> Store43-AssistantStoreManager@mbll.ca
A15: 44 | B15: {=VLOOKUP('FOOTPRINT - SPIRITS'!A15,'Store Info - by Store #'!A:L,{2,3,7,8,9,10,11},0)} -> SPRING MEADOW SQUARE | C15: City | D15: WIRE | E15: Unit 21 - 1783 Plessis Rd | F15: R3W 1N3 | G15: P:204-987-4044 | H15: Store44-StoreManager@mbll.ca | I15: =VLOOKUP(A15,'Store Info - by Store #'!A:L,12,0) -> Store44-AssistantStoreManager@mbll.ca
... A23: 60 | B23: {=VLOOKUP('FOOTPRINT - SPIRITS'!A23,'Store Info - by Store #'!A:L,{2,3,7,8,9,10,11},0)} -> MADISON SQUARE | C23: City | D23: VIC | E23: P – 1600 Ness Ave | F23: R3J 3W7 | G23: P:204-987-4060 | H23: Store60-StoreManager@mbll.ca | I23: =VLOOKUP(A23,'Store Info - by Store #'!A:L,12,0) -> Store60-AssistantStoreManager@mbll.ca

Sheet FOOTPRINT - WINE
A1: FOOTPRINT THEATRE | H1: 20 STORES | I1: 18 CITY, 2 RURAL
A2: WINE
A3: Store # | B3: Store Name | C3: City/Rural | D3: Fixture type | E3: Address | F3: Postal Code | G3: Phone Number/ Fax | H3: Email Address - Store Manager | I3: Email Address - Store Assistant Manager
A4: 5 | B4: {=VLOOKUP('FOOTPRINT - WINE'!A4,'Store Info - by Store #'!A:L,{2,3,7,8,9,10,11},0)} -> GARDEN CITY SQUARE | C4: City | D4: HYBRID | E4: Unit 2 - 915 Leila Ave | F4: R2V 3J7 | G4: P:204-987-4005 | H4: Store05-StoreManager@mbll.ca | I4: =VLOOKUP(A4,'Store Info - By % of sales'!A:L,12,0) -> Store05-AssistantStoreManager@mbll.ca
A5: 8 | B5: {=VLOOKUP('FOOTPRINT - WINE'!A5,'Store Info - by Store #'!A:L,{2,3,7,8,9,10,11},0)} -> PORTAGE & AINSLIE | C5: City | D5: HYBRID | E5: 2549 Portage Ave | F5: R3J 0P1 | G5: P:204-987-4008 | H5: Store08-StoreManager@mbll.ca | I5: =VLOOKUP(A5,'Store Info - By % of sales'!A:L,12,0) -> Store08-AssistantStoreManager@mbll.ca
A6: 9 | B6: {=VLOOKUP('FOOTPRINT - WINE'!A6,'Store Info - by Store #'!A:L,{2,3,7,8,9,10,11},0)} -> TUXEDO | C6: City | D6: WIRE | E6: 168 – 2025 Corydon | F6: R3P 0N5 | G6: P:204-987-4009 | H6: Store09-StoreManager@mbll.ca | I6: =VLOOKUP(A6,'Store Info - By % of sales'!A:L,12,0) -> Store09-AssistantStoreManager@mbll.ca
A7: 17 | B7: {=VLOOKUP('FOOTPRINT - WINE'!A7,'Store Info - by Store #'!A:L,{2,3,7,8,9,10,11},0)} -> KENASTON CROSSING | C7: City | D7: HYBRID | E7: 8-1650 Kenaston Blvd | F7: R3P 2M6 | G7: P:204-987-4017 | H7: Store17-StoreManager@mbll.ca | I7: =VLOOKUP(A7,'Store Info - By % of sales'!A:L,12,0) -> Store17-AssistantStoreManager@mbll.ca
A8: 19 | B8: {=VLOOKUP('FOOTPRINT - WINE'!A8,'Store Info - by Store #'!A:L,{2,3,7,8,9,10,11},0)} -> BUNNS CREEK SHOPPING MALL | C8: City | D8: HYBRID | E8: 2001 Henderson Hwy | F8: R2G 1P7 | G8: P:204-987-4019 | H8: Store19-StoreManager@mbll.ca | I8: =VLOOKUP(A8,'Store Info - By % of sales'!A:L,12,0) -> Store19-AssistantStoreManager@mbll.ca
A9: 20 | B9: {=VLOOKUP('FOOTPRINT - WINE'!A9,'Store Info - by Store #'!A:L,{2,3,7,8,9,10,11},0)} -> ST. VITAL SQUARE | C9: City | D9: HYBRID | E9: #5 – 827 Dakota St | F9: R2M 3K4 | G9: P:204-987-4020 | H9: Store20-StoreManager@mbll.ca | I9: =VLOOKUP(A9,'Store Info - By % of sales'!A:L,12,0) -> Store20-AssistantStoreManager@mbll.ca
A10: 26 | B10: {=VLOOKUP('FOOTPRINT - WINE'!A10,'Store Info - by Store #'!A:L,{2,3,7,8,9,10,11},0)} -> CHARLESWOOD | C10: City | D10: VIC | E10: Unit 1D-3900 Grant Ave | F10: R3R 3C2 | G10: P:204-987-4026 | H10: Store26-StoreManager@mbll.ca | I10: =VLOOKUP(A10,'Store Info - By % of sales'!A:L,12,0) -> Store26-AssistantStoreManager@mbll.ca
A11: 28 | B11: {=VLOOKUP('FOOTPRINT - WINE'!A11,'Store Info - by Store #'!A:L,{2,3,7,8,9,10,11},0)} -> RIVERGROVE | C11: City | D11: VIC (minus boutique) | E11: 2615 Main St | F11: R2V 4W3 | G11: P:204-987-4028 | H11: Store28-StoreManager@mbll.ca | I11: =VLOOKUP(A11,'Store Info - By % of sales'!A:L,12,0) -> Store28-AssistantStoreManager@mbll.ca
A12: 30 | B12: {=VLOOKUP('FOOTPRINT - WINE'!A12,'Store Info - by Store #'!A:L,{2,3,7,8,9,10,11},0)} -> SAGE CREEK | C12: City | D12: WIRE | E12: Unit 1200- 50 Sage Creek Blvd | F12: R3X OJ6 | G12: P:204-987-4030 | H12: Store30-StoreManager@mbll.ca | I12: =VLOOKUP(A12,'Store Info - By % of sales'!A:L,12,0) -> Store30-AssistantStoreManager@mbll.ca
A13: 36 | B13: {=VLOOKUP('FOOTPRINT - WINE'!A13,'Store Info - by Store #'!A:L,{2,3,7,8,9,10,11},0)} -> NORTHDALE | C13: City | D13: HYBRID | E13: 965-A Henderson Hwy | F13: R2K 2M2 | G13: P:204-987-4036 | H13: Store36-StoreManager@mbll.ca | I13: =VLOOKUP(A13,'Store Info - By % of sales'!A:L,12,0) -> Store36-AssistantStoreManager@mbll.ca
A14: 40 | B14: {=VLOOKUP('FOOTPRINT - WINE'!A14,'Store Info - by Store #'!A:L,{2,3,7,8,9,10,11},0)} -> FORT RICHMOND | C14: City | D14: HYBRID | E14: 2851 Pembina Hwy | F14: R3T 2H5 | G14: P:204-987-4040 | H14: Store40-StoreManager@mbll.ca | I14: =VLOOKUP(A14,'Store Info - By % of sales'!A:L,12,0) -> Store40-AssistantStoreManager@mbll.ca
A15: 41 | B15: {=VLOOKUP('FOOTPRINT - WINE'!A15,'Store Info - by Store #'!A:L,{2,3,7,8,9,10,11},0)} -> SOUTHGLEN | C15: City | D15: HYBRID | E15: Unit A - 730 St. Anne's | F15: R2N 0A2 | G15: P:204-987-4041 | H15: Store41-StoreManager@mbll.ca | I15: =VLOOKUP(A15,'Store Info - By % of sales'!A:L,12,0) -> Store41-AssistantStoreManager@mbll.ca
... A23: 60 | B23: {=VLOOKUP('FOOTPRINT - WINE'!A23,'Store Info - by Store #'!A:L,{2,3,7,8,9,10,11},0)} -> MADISON SQUARE | C23: City | D23: VIC | E23: P – 1600 Ness Ave | F23: R3J 3W7 | G23: P:204-987-4060 | H23: Store60-StoreManager@mbll.ca | I23: =VLOOKUP(A23,'Store Info - By % of sales'!A:L,12,0) -> Store60-AssistantStoreManager@mbll.ca

Sheet FOOTPRINT - BEER-RTD
A1: FOOTPRINT THEATRE | H1: 20 STORES | I1: 14 CITY, 6 RURAL
A2: BEER & RTD
A3: Store # | B3: Store Name | C3: City/Rural | D3: Fixture type | E3: Address | F3: Postal Code | G3: Phone Number/ Fax | H3: Email Address - Store Manager | I3: Email Address - Store Assistant Manager
A4: 5 | B4: {=VLOOKUP('FOOTPRINT - BEER-RTD'!A4,'Store Info - by Store #'!A:L,{2,3,7,8,9,10,11},0)} -> GARDEN CITY SQUARE | C4: City | D4: HYBRID | E4: Unit 2 - 915 Leila Ave | F4: R2V 3J7 | G4: P:204-987-4005 | H4: Store05-StoreManager@mbll.ca | I4: =VLOOKUP(A4,'Store Info - By % of sales'!A:L,12,0) -> Store05-AssistantStoreManager@mbll.ca
A5: 7 | B5: {=VLOOKUP('FOOTPRINT - BEER-RTD'!A5,'Store Info - by Store #'!A:L,{2,3,7,8,9,10,11},0)} -> DAUPHIN | C5: Rural | D5: VIC | E5: 1460 Main St S. | F5: R7N 3H4 | G5: P:204-622-7070 F:204-638-4069 | H5: Store07-StoreManager@mbll.ca | I5: =VLOOKUP(A5,'Store Info - By % of sales'!A:L,12,0) -> N/A
A6: 17 | B6: {=VLOOKUP('FOOTPRINT - BEER-RTD'!A6,'Store Info - by Store #'!A:L,{2,3,7,8,9,10,11},0)} -> KENASTON CROSSING | C6: City | D6: HYBRID | E6: 8-1650 Kenaston Blvd | F6: R3P 2M6 | G6: P:204-987-4017 | H6: Store17-StoreManager@mbll.ca | I6: =VLOOKUP(A6,'Store Info - By % of sales'!A:L,12,0) -> Store17-AssistantStoreManager@mbll.ca
A7: 20 | B7: {=VLOOKUP('FOOTPRINT - BEER-RTD'!A7,'Store Info - by Store #'!A:L,{2,3,7,8,9,10,11},0)} -> ST. VITAL SQUARE | C7: City | D7: HYBRID | E7: #5 – 827 Dakota St | F7: R2M 3K4 | G7: P:204-987-4020 | H7: Store20-StoreManager@mbll.ca | I7: =VLOOKUP(A7,'Store Info - By % of sales'!A:L,12,0) -> Store20-AssistantStoreManager@mbll.ca
A8: 25 | B8: {=VLOOKUP('FOOTPRINT - BEER-RTD'!A8,'Store Info - by Store #'!A:L,{2,3,7,8,9,10,11},0)} -> PORTAGE & BURNELL | C8: City | D8: VIC | E8: 923 Portage Ave | F8: R3G 0P6 | G8: P:204-987-4025 | H8: Store25-StoreManager@mbll.ca | I8: =VLOOKUP(A8,'Store Info - By % of sales'!A:L,12,0) -> Store25-AssistantStoreManager@mbll.ca
A9: 27 | B9: {=VLOOKUP('FOOTPRINT - BEER-RTD'!A9,'Store Info - by Store #'!A:L,{2,3,7,8,9,10,11},0)} -> WINKLER | C9: Rural | D9: WIRE | E9: Unit A - 155 Cargill Rd | F9: R6W 1K2 | G9: P:204-331-6213 F:204-331-6220 | H9: Store27-StoreManager@mbll.ca | I9: =VLOOKUP(A9,'Store Info - By % of sales'!A:L,12,0) -> Store27-AssistantStoreManager@mbll.ca
A10: 30 | B10: {=VLOOKUP('FOOTPRINT - BEER-RTD'!A10,'Store Info - by Store #'!A:L,{2,3,7,8,9,10,11},0)} -> SAGE CREEK | C10: City | D10: WIRE | E10: Unit 1200- 50 Sage Creek Blvd | F10: R3X OJ6 | G10: P:204-987-4030 | H10: Store30-StoreManager@mbll.ca | I10: =VLOOKUP(A10,'Store Info - By % of sales'!A:L,12,0) -> Store30-AssistantStoreManager@mbll.ca
A11: 32 | B11: {=VLOOKUP('FOOTPRINT - BEER-RTD'!A11,'Store Info - by Store #'!A:L,{2,3,7,8,9,10,11},0)} -> BRANDON CORRAL CENTRE | C11: Rural | D11: VIC (no wine/perimeter walls) | E11: 805 - 18th Street North | F11: R7A 7S1 | G11: P:204-571-5132 F:204-571-5104 | H11: Store32-StoreManager@mbll.ca | I11: =VLOOKUP(A11,'Store Info - By % of sales'!A:L,12,0) -> Store32-AssistantStoreManager@mbll.ca
A12: 36 | B12: {=VLOOKUP('FOOTPRINT - BEER-RTD'!A12,'Store Info - by Store #'!A:L,{2,3,7,8,9,10,11},0)} -> NORTHDALE | C12: City | D12: HYBRID | E12: 965-A Henderson Hwy | F12: R2K 2M2 | G12: P:204-987-4036 | H12: Store36-StoreManager@mbll.ca | I12: =VLOOKUP(A12,'Store Info - By % of sales'!A:L,12,0) -> Store36-AssistantStoreManager@mbll.ca
A13: 40 | B13: {=VLOOKUP('FOOTPRINT - BEER-RTD'!A13,'Store Info - by Store #'!A:L,{2,3,7,8,9,10,11},0)} -> FORT RICHMOND | C13: City | D13: HYBRID | E13: 2851 Pembina Hwy | F13: R3T 2H5 | G13: P:204-987-4040 | H13: Store40-StoreManager@mbll.ca | I13: =VLOOKUP(A13,'Store Info - By % of sales'!A:L,12,0) -> Store40-AssistantStoreManager@mbll.ca
A14: 41 | B14: {=VLOOKUP('FOOTPRINT - BEER-RTD'!A14,'Store Info - by Store #'!A:L,{2,3,7,8,9,10,11},0)} -> SOUTHGLEN | C14: City | D14: HYBRID | E14: Unit A - 730 St. Anne's | F14: R2N 0A2 | G14: P:204-987-4041 | H14: Store41-StoreManager@mbll.ca | I14: =VLOOKUP(A14,'Store Info - By % of sales'!A:L,12,0) -> Store41-AssistantStoreManager@mbll.ca
A15: 43 | B15: {=VLOOKUP('FOOTPRINT - BEER-RTD'!A15,'Store Info - by Store #'!A:L,{2,3,7,8,9,10,11},0)} -> SOUTHDALE | C15: City | D15: VIC | E15: 81 Vermillion Rd | F15: R2J 3W7 | G15: P:204-987-4043 | H15: Store43-StoreManager@mbll.ca | I15: =VLOOKUP(A15,'Store Info - By % of sales'!A:L,12,0) -> Store43-AssistantStoreManager@mbll.ca
... A23: 60 | B23: {=VLOOKUP('FOOTPRINT - BEER-RTD'!A23,'Store Info - by Store #'!A:L,{2,3,7,8,9,10,11},0)} -> MADISON SQUARE | C23: City | D23: VIC | E23: P – 1600 Ness Ave | F23: R3J 3W7 | G23: P:204-987-4060 | H23: Store60-StoreManager@mbll.ca | I23: =VLOOKUP(A23,'Store Info - By % of sales'!A:L,12,0) -> Store60-AssistantStoreManager@mbll.ca

Sheet IMPULSE BIN
A1: IMPULSE BIN
C3: Store # | D3: Store Name | E3: City/Rural | F3: Fixture type | G3: Address | H3: Postal Code | I3: Phone Number/ Fax | J3: Email Address - Store Manager | K3: Email Address - Store Assistant Manager
A4: OPTION 1 | B4: OPTION 2 | C4: 5 | D4: {=VLOOKUP('IMPULSE BIN'!C4,'Store Info - by Store #'!A:L,{2,3,7,8,9,10,11},0)} -> GARDEN CITY SQUARE | E4: City | F4: HYBRID | G4: Unit 2 - 915 Leila Ave | H4: R2V 3J7 | I4: P:204-987-4005 | J4: Store05-StoreManager@mbll.ca | K4: =VLOOKUP(C4,'Store Info - by Store #'!A:L,12,0) -> Store05-AssistantStoreManager@mbll.ca | L4: 37 STORES (27 CITY, 10 RURAL) | M4: 55 STORES (30 CITY, 25 RURAL)
C5: 6 | D5: {=VLOOKUP('IMPULSE BIN'!C5,'Store Info - by Store #'!A:L,{2,3,7,8,9,10,11},0)} -> HARGRAVE & ELLICE | E5: City | F5: WIRE | G5: 325 Ellice Ave | H5: R3B 1X7 | I5: P:204-987-4006 | J5: Store06-StoreManager@mbll.ca | K5: =VLOOKUP(C5,'Store Info - by Store #'!A:L,12,0) -> Store06-AssistantStoreManager@mbll.ca
C6: 7 | D6: {=VLOOKUP('IMPULSE BIN'!C6,'Store Info - by Store #'!A:L,{2,3,7,8,9,10,11},0)} -> DAUPHIN | E6: Rural | F6: VIC | G6: 1460 Main St S. | H6: R7N 3H4 | I6: P:204-622-7070 F:204-638-4069 | J6: Store07-StoreManager@mbll.ca | K6: =VLOOKUP(C6,'Store Info - by Store #'!A:L,12,0) -> N/A
C7: 8 | D7: {=VLOOKUP('IMPULSE BIN'!C7,'Store Info - by Store #'!A:L,{2,3,7,8,9,10,11},0)} -> PORTAGE & AINSLIE | E7: City | F7: HYBRID | G7: 2549 Portage Ave | H7: R3J 0P1 | I7: P:204-987-4008 | J7: Store08-StoreManager@mbll.ca | K7: =VLOOKUP(C7,'Store Info - by Store #'!A:L,12,0) -> Store08-AssistantStoreManager@mbll.ca
C8: 9 | D8: {=VLOOKUP('IMPULSE BIN'!C8,'Store Info - by Store #'!A:L,{2,3,7,8,9,10,11},0)} -> TUXEDO | E8: City | F8: WIRE | G8: 168 – 2025 Corydon | H8: R3P 0N5 | I8: P:204-987-4009 | J8: Store09-StoreManager@mbll.ca | K8: =VLOOKUP(C8,'Store Info - by Store #'!A:L,12,0) -> Store09-AssistantStoreManager@mbll.ca
C9: 11 | D9: {=VLOOKUP('IMPULSE BIN'!C9,'Store Info - by Store #'!A:L,{2,3,7,8,9,10,11},0)} -> SELKIRK | E9: Rural | F9: WIRE | G9: 377 Main St | H9: R1A 1T7 | I9: P:204-482-2360 F: 204-785-2124 | J9: Store11-StoreManager@mbll.ca | K9: =VLOOKUP(C9,'Store Info - by Store #'!A:L,12,0) -> Store11-AssistantStoreManager@mbll.ca
C10: 13 | D10: {=VLOOKUP('IMPULSE BIN'!C10,'Store Info - by Store #'!A:L,{2,3,7,8,9,10,11},0)} -> GIMLI | E10: Rural | F10: VIC | G10: 69 Centre St | H10: R0C 1B1 | I10: P:204-642-6540 F:204-642-9778 | J10: Store13-StoreManager@mbll.ca | K10: =VLOOKUP(C10,'Store Info - by Store #'!A:L,12,0) -> Store13-AssistantStoreManager@mbll.ca
C11: 14 | D11: {=VLOOKUP('IMPULSE BIN'!C11,'Store Info - by Store #'!A:L,{2,3,7,8,9,10,11},0)} -> MAIN & PRITCHARD | E11: City | F11: VIC | G11: 1005 Main St | H11: R2W 3P8 | I11: P:204-987-4014 | J11: Store14-StoreManager@mbll.ca | K11: =VLOOKUP(C11,'Store Info - by Store #'!A:L,12,0) -> Store14-AssistantStoreManager@mbll.ca
C12: 17 | D12: {=VLOOKUP('IMPULSE BIN'!C12,'Store Info - by Store #'!A:L,{2,3,7,8,9,10,11},0)} -> KENASTON CROSSING | E12: City | F12: HYBRID | G12: 8-1650 Kenaston Blvd | H12: R3P 2M6 | I12: P:204-987-4017 | J12: Store17-StoreManager@mbll.ca | K12: =VLOOKUP(C12,'Store Info - by Store #'!A:L,12,0) -> Store17-AssistantStoreManager@mbll.ca
C13: 18 | D13: {=VLOOKUP('IMPULSE BIN'!C13,'Store Info - by Store #'!A:L,{2,3,7,8,9,10,11},0)} -> FORT GARRY | E13: City | F13: VIC | G13: 1235 Pembina Hwy | H13: R3T 2A9 | I13: P:204-987-4018 | J13: Store18-StoreManager@mbll.ca | K13: =VLOOKUP(C13,'Store Info - by Store #'!A:L,12,0) -> Store18-AssistantStoreManager@mbll.ca
C14: 19 | D14: {=VLOOKUP('IMPULSE BIN'!C14,'Store Info - by Store #'!A:L,{2,3,7,8,9,10,11},0)} -> BUNNS CREEK SHOPPING MALL | E14: City | F14: HYBRID | G14: 2001 Henderson Hwy | H14: R2G 1P7 | I14: P:204-987-4019 | J14: Store19-StoreManager@mbll.ca | K14: =VLOOKUP(C14,'Store Info - by Store #'!A:L,12,0) -> Store19-AssistantStoreManager@mbll.ca
C15: 20 | D15: {=VLOOKUP('IMPULSE BIN'!C15,'Store Info - by Store #'!A:L,{2,3,7,8,9,10,11},0)} -> ST. VITAL SQUARE | E15: City | F15: HYBRID | G15: #5 – 827 Dakota St | H15: R2M 3K4 | I15: P:204-987-4020 | J15: Store20-StoreManager@mbll.ca | K15: =VLOOKUP(C15,'Store Info - by Store #'!A:L,12,0) -> Store20-AssistantStoreManager@mbll.ca
C16: 25 | D16: {=VLOOKUP('IMPULSE BIN'!C16,'Store Info - by Store #'!A:L,{2,3,7,8,9,10,11},0)} -> PORTAGE & BURNELL | E16: City | F16: VIC | G16: 923 Portage Ave | H16: R3G 0P6 | I16: P:204-987-4025 | J16: Store25-StoreManager@mbll.ca | K16: =VLOOKUP(C16,'Store Info - by Store #'!A:L,12,0) -> Store25-AssistantStoreManager@mbll.ca
... C58: 56 | D58: {=VLOOKUP('IMPULSE BIN'!C58,'Store Info - by Store #'!A:L,{2,3,7,8,9,10,11},0)} -> RUSSELL | E58: Rural | F58: WIRE | G58: 202 Shell River Ave North/ Box 489 | H58: R0J 1W0 | I58: P:204-773-2570 F:204-773-3945 | J58: Store56-StoreManager@mbll.ca | K58: =VLOOKUP(C58,'Store Info - by Store #'!A:L,12,0) -> N/A

Sheet IMPULSE AT CASH
A1: IMPULSE AT CASH | H1: 55 STORES | I1: 30 CITY, 25 RURAL
A3: Store # | B3: Store Name | C3: City/Rural | D3: Fixture type | E3: Address | F3: Postal Code | G3: Phone Number/ Fax | H3: Email Address - Store Manager | I3: Email Address - Store Assistant Manager
A4: 4 | B4: {=VLOOKUP('IMPULSE AT CASH'!A51,'Store Info - by Store #'!A:L,{2,3,7,8,9,10,11},0)} -> BEAUSEJOUR | C4: Rural | D4: VIC | E4: 619 Park Ave | F4: R0E 0C0 | G4: P:204-268-1855 F:204-268-3230 | H4: Store55-StoreManager@mbll.ca | I4: =VLOOKUP(A4,'Store Info - by Store #'!A:L,12,0) -> N/A
A5: 5 | B5: {=VLOOKUP('IMPULSE AT CASH'!A4,'Store Info - by Store #'!A:L,{2,3,7,8,9,10,11},0)} -> NEEPAWA | C5: Rural | D5: WIRE | E5: 393 Mountain Ave | F5: R0J 1H0 | G5: P:204-476-5769 F:204-476-3136 | H5: Store04-StoreManager@mbll.ca | I5: =VLOOKUP(A5,'Store Info - by Store #'!A:L,12,0) -> Store05-AssistantStoreManager@mbll.ca
A6: 6 | B6: {=VLOOKUP('IMPULSE AT CASH'!A5,'Store Info - by Store #'!A:L,{2,3,7,8,9,10,11},0)} -> GARDEN CITY SQUARE | C6: City | D6: HYBRID | E6: Unit 2 - 915 Leila Ave | F6: R2V 3J7 | G6: P:204-987-4005 | H6: Store05-StoreManager@mbll.ca | I6: =VLOOKUP(A6,'Store Info - by Store #'!A:L,12,0) -> Store06-AssistantStoreManager@mbll.ca
A7: 7 | B7: {=VLOOKUP('IMPULSE AT CASH'!A6,'Store Info - by Store #'!A:L,{2,3,7,8,9,10,11},0)} -> HARGRAVE & ELLICE | C7: City | D7: WIRE | E7: 325 Ellice Ave | F7: R3B 1X7 | G7: P:204-987-4006 | H7: Store06-StoreManager@mbll.ca | I7: =VLOOKUP(A7,'Store Info - by Store #'!A:L,12,0) -> N/A
A8: 8 | B8: {=VLOOKUP('IMPULSE AT CASH'!A7,'Store Info - by Store #'!A:L,{2,3,7,8,9,10,11},0)} -> DAUPHIN | C8: Rural | D8: VIC | E8: 1460 Main St S. | F8: R7N 3H4 | G8: P:204-622-7070 F:204-638-4069 | H8: Store07-StoreManager@mbll.ca | I8: =VLOOKUP(A8,'Store Info - by Store #'!A:L,12,0) -> Store08-AssistantStoreManager@mbll.ca
A9: 9 | B9: {=VLOOKUP('IMPULSE AT CASH'!A8,'Store Info - by Store #'!A:L,{2,3,7,8,9,10,11},0)} -> PORTAGE & AINSLIE | C9: City | D9: HYBRID | E9: 2549 Portage Ave | F9: R3J 0P1 | G9: P:204-987-4008 | H9: Store08-StoreManager@mbll.ca | I9: =VLOOKUP(A9,'Store Info - by Store #'!A:L,12,0) -> Store09-AssistantStoreManager@mbll.ca
A10: 10 | B10: {=VLOOKUP('IMPULSE AT CASH'!A49,'Store Info - by Store #'!A:L,{2,3,7,8,9,10,11},0)} -> CARMAN | C10: Rural | D10: VIC | E10: 3 Centre Ave West | F10: R0G 0J0 | G10: P:204-745-2147 F:204-745-1937 | H10: Store53-StoreManager@mbll.ca | I10: =VLOOKUP(A10,'Store Info - by Store #'!A:L,12,0) -> Store10-AssistantStoreManager@mbll.ca
A11: 11 | B11: {=VLOOKUP('IMPULSE AT CASH'!A9,'Store Info - by Store #'!A:L,{2,3,7,8,9,10,11},0)} -> TUXEDO | C11: City | D11: WIRE | E11: 168 – 2025 Corydon | F11: R3P 0N5 | G11: P:204-987-4009 | H11: Store09-StoreManager@mbll.ca | I11: =VLOOKUP(A11,'Store Info - by Store #'!A:L,12,0) -> Store11-AssistantStoreManager@mbll.ca
A12: 12 | B12: {=VLOOKUP('IMPULSE AT CASH'!A41,'Store Info - by Store #'!A:L,{2,3,7,8,9,10,11},0)} -> SPRING MEADOW SQUARE | C12: City | D12: WIRE | E12: Unit 21 - 1783 Plessis Rd | F12: R3W 1N3 | G12: P:204-987-4044 | H12: Store44-StoreManager@mbll.ca | I12: =VLOOKUP(A12,'Store Info - by Store #'!A:L,12,0) -> Store12-AssistantStoreManager@mbll.ca
A13: 13 | B13: {=VLOOKUP('IMPULSE AT CASH'!A10,'Store Info - by Store #'!A:L,{2,3,7,8,9,10,11},0)} -> FLIN FLON | C13: Rural | D13: WIRE | E13: 26 Hapnot St | F13: R8A 1L4 | G13: P:204-687-1380 F:204-687-6677 | H13: Store10-StoreManager@mbll.ca | I13: =VLOOKUP(A13,'Store Info - by Store #'!A:L,12,0) -> Store13-AssistantStoreManager@mbll.ca
A14: 14 | B14: {=VLOOKUP('IMPULSE AT CASH'!A11,'Store Info - by Store #'!A:L,{2,3,7,8,9,10,11},0)} -> SELKIRK | C14: Rural | D14: WIRE | E14: 377 Main St | F14: R1A 1T7 | G14: P:204-482-2360 F: 204-785-2124 | H14: Store11-StoreManager@mbll.ca | I14: =VLOOKUP(A14,'Store Info - by Store #'!A:L,12,0) -> Store14-AssistantStoreManager@mbll.ca
A15: 15 | B15: {=VLOOKUP('IMPULSE AT CASH'!A55,'Store Info - by Store #'!A:L,{2,3,7,8,9,10,11},0)} -> MADISON SQUARE | C15: City | D15: VIC | E15: P – 1600 Ness Ave | F15: R3J 3W7 | G15: P:204-987-4060 | H15: Store60-StoreManager@mbll.ca | I15: =VLOOKUP(A15,'Store Info - by Store #'!A:L,12,0) -> N/A
A16: 17 | B16: {=VLOOKUP('IMPULSE AT CASH'!A12,'Store Info - by Store #'!A:L,{2,3,7,8,9,10,11},0)} -> RIVER & OSBORNE | C16: City | D16: WIRE | E16: 469 River Ave | F16: R3L 0C9 | G16: P:204-987-4012 | H16: Store12-StoreManager@mbll.ca | I16: =VLOOKUP(A16,'Store Info - by Store #'!A:L,12,0) -> Store17-AssistantStoreManager@mbll.ca
A17: 18 | B17: {=VLOOKUP('IMPULSE AT CASH'!A13,'Store Info - by Store #'!A:L,{2,3,7,8,9,10,11},0)} -> GIMLI | C17: Rural | D17: VIC | E17: 69 Centre St | F17: R0C 1B1 | G17: P:204-642-6540 F:204-642-9778 | H17: Store13-StoreManager@mbll.ca | I17: =VLOOKUP(A17,'Store Info - by Store #'!A:L,12,0) -> Store18-AssistantStoreManager@mbll.ca
A18: 19 | B18: {=VLOOKUP('IMPULSE AT CASH'!A14,'Store Info - by Store #'!A:L,{2,3,7,8,9,10,11},0)} -> MAIN & PRITCHARD | C18: City | D18: VIC | E18: 1005 Main St | F18: R2W 3P8 | G18: P:204-987-4014 | H18: Store14-StoreManager@mbll.ca | I18: =VLOOKUP(A18,'Store Info - by Store #'!A:L,12,0) -> Store19-AssistantStoreManager@mbll.ca
A19: 20 | B19: {=VLOOKUP('IMPULSE AT CASH'!A15,'Store Info - by Store #'!A:L,{2,3,7,8,9,10,11},0)} -> ROBLIN | C19: Rural | D19: VIC | E19: 124 Main St West Box 1178 | F19: R0L 1P0 | G19: P:204-937-4411 F:204-937-3698 | H19: Store15-StoreManager@mbll.ca | I19: =VLOOKUP(A19,'Store Info - by Store #'!A:L,12,0) -> Store20-AssistantStoreManager@mbll.ca
A20: 22 | B20: {=VLOOKUP('IMPULSE AT CASH'!A48,'Store Info - by Store #'!A:L,{2,3,7,8,9,10,11},0)} -> EASTWINDS | C20: City | D20: VIC | E20: 23 - 1530 Regent Ave | F20: R2C 4J5 | G20: P:204-987-4052 | H20: Store52-StoreManager@mbll.ca | I20: =VLOOKUP(A20,'Store Info - by Store #'!A:L,12,0) -> Store22-AssistantStoreManager@mbll.ca
A21: 23 | B21: {=VLOOKUP('IMPULSE AT CASH'!A52,'Store Info - by Store #'!A:L,{2,3,7,8,9,10,11},0)} -> RUSSELL | C21: Rural | D21: WIRE | E21: 202 Shell River Ave North/ Box 489 | F21: R0J 1W0 | G21: P:204-773-2570 F:204-773-3945 | H21: Store56-StoreManager@mbll.ca | I21: =VLOOKUP(A21,'Store Info - by Store #'!A:L,12,0) -> N/A
A22: 24 | B22: {=VLOOKUP('IMPULSE AT CASH'!A53,'Store Info - by Store #'!A:L,{2,3,7,8,9,10,11},0)} -> STEINBACH | C22: Rural | D22: HYBRID | E22: Unit A - 118 PTH #12N | F22: R5G 1T4 | G22: P:204-320-2557 F:204-320-2558 | H22: Store57-StoreManager@mbll.ca | I22: =VLOOKUP(A22,'Store Info - by Store #'!A:L,12,0) -> N/A
A23: 25 | B23: {=VLOOKUP('IMPULSE AT CASH'!A16,'Store Info - by Store #'!A:L,{2,3,7,8,9,10,11},0)} -> KENASTON CROSSING | C23: City | D23: HYBRID | E23: 8-1650 Kenaston Blvd | F23: R3P 2M6 | G23: P:204-987-4017 | H23: Store17-StoreManager@mbll.ca | I23: =VLOOKUP(A23,'Store Info - by Store #'!A:L,12,0) -> Store25-AssistantStoreManager@mbll.ca
A24: 26 | B24: {=VLOOKUP('IMPULSE AT CASH'!A17,'Store Info - by Store #'!A:L,{2,3,7,8,9,10,11},0)} -> FORT GARRY | C24: City | D24: VIC | E24: 1235 Pembina Hwy | F24: R3T 2A9 | G24: P:204-987-4018 | H24: Store18-StoreManager@mbll.ca | I24: =VLOOKUP(A24,'Store Info - by Store #'!A:L,12,0) -> Store26-AssistantStoreManager@mbll.ca
A25: 27 | B25: {=VLOOKUP('IMPULSE AT CASH'!A18,'Store Info - by Store #'!A:L,{2,3,7,8,9,10,11},0)} -> BUNNS CREEK SHOPPING MALL | C25: City | D25: HYBRID | E25: 2001 Henderson Hwy | F25: R2G 1P7 | G25: P:204-987-4019 | H25: Store19-StoreManager@mbll.ca | I25: =VLOOKUP(A25,'Store Info - by Store #'!A:L,12,0) -> Store27-AssistantStoreManager@mbll.ca
A26: 28 | B26: {=VLOOKUP('IMPULSE AT CASH'!A19,'Store Info - by Store #'!A:L,{2,3,7,8,9,10,11},0)} -> ST. VITAL SQUARE | C26: City | D26: HYBRID | E26: #5 – 827 Dakota St | F26: R2M 3K4 | G26: P:204-987-4020 | H26: Store20-StoreManager@mbll.ca | I26: =VLOOKUP(A26,'Store Info - by Store #'!A:L,12,0) -> Store28-AssistantStoreManager@mbll.ca
A27: 29 | B27: {=VLOOKUP('IMPULSE AT CASH'!A46,'Store Info - by Store #'!A:L,{2,3,7,8,9,10,11},0)} -> TYNDALL MARKET | C27: City | D27: VIC | E27: Unit 15 - 850 Keewatin | F27: R2R 0Z5 | G27: P:204-987-4050 | H27: Store50-StoreManager@mbll.ca | I27: =VLOOKUP(A27,'Store Info - by Store #'!A:L,12,0) -> Store29-AssistantStoreManager@mbll.ca
A28: 30 | B28: {=VLOOKUP('IMPULSE AT CASH'!A20,'Store Info - by Store #'!A:L,{2,3,7,8,9,10,11},0)} -> PORTAGE LA PRAIRIE EAST | C28: Rural | D28: VIC | E28: 300 Saskatchewan Ave East - Box 464 | F28: R1N 0K8 | G28: P:204-856-2170 F:204-857-6570 | H28: Store22-StoreManager@mbll.ca | I28: =VLOOKUP(A28,'Store Info - by Store #'!A:L,12,0) -> Store30-AssistantStoreManager@mbll.ca
A29: 31 | B29: {=VLOOKUP('IMPULSE AT CASH'!A44,'Store Info - by Store #'!A:L,{2,3,7,8,9,10,11},0)} -> TRANSCONA SQUARE | C29: City | D29: VIC | E29: 3-620 Kildare Ave East | F29: R2C 0P8 | G29: P:204-987-4048 | H29: Store48-StoreManager@mbll.ca | I29: =VLOOKUP(A29,'Store Info - by Store #'!A:L,12,0) -> Store31-AssistantStoreManager@mbll.ca
A30: 32 | B30: {=VLOOKUP('IMPULSE AT CASH'!A21,'Store Info - by Store #'!A:L,{2,3,7,8,9,10,11},0)} -> SWAN RIVER | C30: Rural | D30: VIC | E30: 716 Main St | F30: R0L 1Z0 | G30: P:204-734-2002 F:204-734-9360 | H30: Store23-StoreManager@mbll.ca | I30: =VLOOKUP(A30,'Store Info - by Store #'!A:L,12,0) -> Store32-AssistantStoreManager@mbll.ca
A31: 33 | B31: {=VLOOKUP('IMPULSE AT CASH'!A57,'Store Info - by Store #'!A:L,{2,3,7,8,9,10,11},0)} -> PORTAGE LA PRAIRIE WEST | C31: Rural | D31: VIC | E31: 2255 Saskatchewan Ave West | F31: R1N 4A1 | G31: P:204-856-1159 | H31: Store84-StoreManager@mbll.ca | I31: =VLOOKUP(A31,'Store Info - by Store #'!A:L,12,0) -> N/A
A32: 34 | B32: {=VLOOKUP('IMPULSE AT CASH'!A54,'Store Info - by Store #'!A:L,{2,3,7,8,9,10,11},0)} -> SEASONS | C32: City | D32: VIC | E32: Unit 5, 469 Sterling Lyon Parkway | F32: R3P 2S8 | G32: P:204-987-4059 | H32: Store59-StoreManager@mbll.ca | I32: =VLOOKUP(A32,'Store Info - by Store #'!A:L,12,0) -> N/A
A33: 36 | B33: {=VLOOKUP('IMPULSE AT CASH'!A22,'Store Info - by Store #'!A:L,{2,3,7,8,9,10,11},0)} -> VIRDEN | C33: Rural | D33: VIC | E33: 197 3rd Ave | F33: R0M 2C0 | G33: P:204-748-2361 F:204-748-6454 | H33: Store24-StoreManager@mbll.ca | I33: =VLOOKUP(A33,'Store Info - by Store #'!A:L,12,0) -> Store36-AssistantStoreManager@mbll.ca
A34: 37 | B34: {=VLOOKUP('IMPULSE AT CASH'!A50,'Store Info - by Store #'!A:L,{2,3,7,8,9,10,11},0)} -> CRESTVIEW | C34: City | D34: VIC (minus boutique) | E34: Unit 170–3393 Portage | F34: R3K 2G7 | G34: P:204-987-4054 | H34: Store54-StoreManager@mbll.ca | I34: =VLOOKUP(A34,'Store Info - by Store #'!A:L,12,0) -> N/A
A35: 38 | B35: {=VLOOKUP('IMPULSE AT CASH'!A23,'Store Info - by Store #'!A:L,{2,3,7,8,9,10,11},0)} -> PORTAGE & BURNELL | C35: City | D35: VIC | E35: 923 Portage Ave | F35: R3G 0P6 | G35: P:204-987-4025 | H35: Store25-StoreManager@mbll.ca | I35: =VLOOKUP(A35,'Store Info - by Store #'!A:L,12,0) -> Store38-AssistantStoreManager@mbll.ca
A36: 39 | B36: {=VLOOKUP('IMPULSE AT CASH'!A42,'Store Info - by Store #'!A:L,{2,3,7,8,9,10,11},0)} -> GRANT PARK | C36: City | D36: HYBRID | E36: 1120 Grant Ave | F36: R3M 2A6 | G36: P:204-987-4045 | H36: Store45-StoreManager@mbll.ca | I36: =VLOOKUP(A36,'Store Info - by Store #'!A:L,12,0) -> Store39-AssistantStoreManager@mbll.ca
A37: 40 | B37: {=VLOOKUP('IMPULSE AT CASH'!A24,'Store Info - by Store #'!A:L,{2,3,7,8,9,10,11},0)} -> CHARLESWOOD | C37: City | D37: VIC | E37: Unit 1D-3900 Grant Ave | F37: R3R 3C2 | G37: P:204-987-4026 | H37: Store26-StoreManager@mbll.ca | I37: =VLOOKUP(A37,'Store Info - by Store #'!A:L,12,0) -> Store40-AssistantStoreManager@mbll.ca
A38: 41 | B38: {=VLOOKUP('IMPULSE AT CASH'!A25,'Store Info - by Store #'!A:L,{2,3,7,8,9,10,11},0)} -> WINKLER | C38: Rural | D38: WIRE | E38: Unit A - 155 Cargill Rd | F38: R6W 1K2 | G38: P:204-331-6213 F:204-331-6220 | H38: Store27-StoreManager@mbll.ca | I38: =VLOOKUP(A38,'Store Info - by Store #'!A:L,12,0) -> Store41-AssistantStoreManager@mbll.ca
A39: 42 | B39: {=VLOOKUP('IMPULSE AT CASH'!A26,'Store Info - by Store #'!A:L,{2,3,7,8,9,10,11},0)} -> RIVERGROVE | C39: City | D39: VIC (minus boutique) | E39: 2615 Main St | F39: R2V 4W3 | G39: P:204-987-4028 | H39: Store28-StoreManager@mbll.ca | I39: =VLOOKUP(A39,'Store Info - by Store #'!A:L,12,0) -> Store42-AssistantStoreManager@mbll.ca
A40: 43 | B40: {=VLOOKUP('IMPULSE AT CASH'!A27,'Store Info - by Store #'!A:L,{2,3,7,8,9,10,11},0)} -> LAC du BONNET | C40: Rural | D40: VIC | E40: 99, 2nd St | F40: R0E 1A0 | G40: P:204-345-2350 F:204-345-9037 | H40: Store29-StoreManager@mbll.ca | I40: =VLOOKUP(A40,'Store Info - by Store #'!A:L,12,0) -> Store43-AssistantStoreManager@mbll.ca
A41: 44 | B41: {=VLOOKUP('IMPULSE AT CASH'!A28,'Store Info - by Store #'!A:L,{2,3,7,8,9,10,11},0)} -> SAGE CREEK | C41: City | D41: WIRE | E41: Unit 1200- 50 Sage Creek Blvd | F41: R3X OJ6 | G41: P:204-987-4030 | H41: Store30-StoreManager@mbll.ca | I41: =VLOOKUP(A41,'Store Info - by Store #'!A:L,12,0) -> Store44-AssistantStoreManager@mbll.ca
...

Sheet BUILD YOUR OWN AD HOC
A1: BUILD YOUR OWN AD HOC | H1: UP TO 29 STORES | I1: 22 CITY, 7 RURAL
A3: Store # | B3: Store Name | C3: City/Rural | D3: Fixture type | E3: Address | F3: Postal Code | G3: Phone Number/ Fax | H3: Email Address - Store Manager | I3: Email Address - Store Assistant Manager
A4: 5 | B4: {=VLOOKUP('BUILD YOUR OWN AD HOC'!A4,'Store Info - by Store #'!A:L,{2,3,7,8,9,10,11},0)} -> GARDEN CITY SQUARE | C4: City | D4: HYBRID | E4: Unit 2 - 915 Leila Ave | F4: R2V 3J7 | G4: P:204-987-4005 | H4: Store05-StoreManager@mbll.ca | I4: =VLOOKUP(A4,'Store Info - by Store #'!A:L,12,0) -> Store05-AssistantStoreManager@mbll.ca
A5: 8 | B5: {=VLOOKUP('BUILD YOUR OWN AD HOC'!A5,'Store Info - by Store #'!A:L,{2,3,7,8,9,10,11},0)} -> PORTAGE & AINSLIE | C5: City | D5: HYBRID | E5: 2549 Portage Ave | F5: R3J 0P1 | G5: P:204-987-4008 | H5: Store08-StoreManager@mbll.ca | I5: =VLOOKUP(A5,'Store Info - by Store #'!A:L,12,0) -> Store08-AssistantStoreManager@mbll.ca
A6: 11 | B6: {=VLOOKUP('BUILD YOUR OWN AD HOC'!A6,'Store Info - by Store #'!A:L,{2,3,7,8,9,10,11},0)} -> SELKIRK | C6: Rural | D6: WIRE | E6: 377 Main St | F6: R1A 1T7 | G6: P:204-482-2360 F: 204-785-2124 | H6: Store11-StoreManager@mbll.ca | I6: =VLOOKUP(A6,'Store Info - by Store #'!A:L,12,0) -> Store11-AssistantStoreManager@mbll.ca
